BEGIN:VCALENDAR
VERSION:2.0
PRODID:-//Haitzondo - Chambres d&#039;hotes - ECPv6.15.17.1//NONSGML v1.0//EN
CALSCALE:GREGORIAN
METHOD:PUBLISH
X-ORIGINAL-URL:https://chambresdhotes-haitzondo.com
X-WR-CALDESC:Évènements pour Haitzondo - Chambres d&#039;hotes
REFRESH-INTERVAL;VALUE=DURATION:PT1H
X-Robots-Tag:noindex
X-PUBLISHED-TTL:PT1H
BEGIN:VTIMEZONE
TZID:Europe/Paris
BEGIN:DAYLIGHT
TZOFFSETFROM:+0100
TZOFFSETTO:+0200
TZNAME:CEST
DTSTART:20230326T010000
END:DAYLIGHT
BEGIN:STANDARD
TZOFFSETFROM:+0200
TZOFFSETTO:+0100
TZNAME:CET
DTSTART:20231029T010000
END:STANDARD
BEGIN:DAYLIGHT
TZOFFSETFROM:+0100
TZOFFSETTO:+0200
TZNAME:CEST
DTSTART:20240331T010000
END:DAYLIGHT
BEGIN:STANDARD
TZOFFSETFROM:+0200
TZOFFSETTO:+0100
TZNAME:CET
DTSTART:20241027T010000
END:STANDARD
BEGIN:DAYLIGHT
TZOFFSETFROM:+0100
TZOFFSETTO:+0200
TZNAME:CEST
DTSTART:20250330T010000
END:DAYLIGHT
BEGIN:STANDARD
TZOFFSETFROM:+0200
TZOFFSETTO:+0100
TZNAME:CET
DTSTART:20251026T010000
END:STANDARD
END:VTIMEZONE
BEGIN:VEVENT
DTSTART;TZID=Europe/Paris:20241207T143000
DTEND;TZID=Europe/Paris:20241207T163000
DTSTAMP:20260420T083744
CREATED:20241112T093936Z
LAST-MODIFIED:20241203T165935Z
UID:6923-1733581800-1733589000@chambresdhotes-haitzondo.com
SUMMARY:Danse libre § Relaxation sonore
DESCRIPTION:  \nDanse Libre § Relaxation Sonore \nJe vous ouvre cet espace pour un atelier de Danse libre et de Relaxation sonore sous la guidance de Isabelle Barbier. \nUn voyage de reconnexion à soi et à l’autre par les pratiques psycho-corporelles. Se remettre en mouvement\, lâcher les tensions\, se déployer\, éveiller nos sens et activer le feu créateur. \nAprès un réveil corporel en douceur\, nous nous mettrons en mouvement pour terminer l’atelier dans une relaxation sonore. \nRetrouvons nous. Partageons la Danse. Partageons ce voyage!
URL:https://chambresdhotes-haitzondo.com/evenement/danse-libre-%c2%a7-relaxation-sonore/
LOCATION:Maison Haitz Ondo\, 249 Chemin d’Olhassogaraia\, Hasparren\, 64240\, France
CATEGORIES:Danse
ATTACH;FMTTYPE=image/jpeg:https://chambresdhotes-haitzondo.com/wp-content/uploads/2024/11/IMG-20241117-WA0000.jpg
END:VEVENT
END:VCALENDAR