BEGIN:VCALENDAR
VERSION:2.0
PRODID:-//Haitzondo - Chambres d&#039;hotes - ECPv6.15.17.1//NONSGML v1.0//EN
CALSCALE:GREGORIAN
METHOD:PUBLISH
X-WR-CALNAME:Haitzondo - Chambres d&#039;hotes
X-ORIGINAL-URL:https://chambresdhotes-haitzondo.com
X-WR-CALDESC:Évènements pour Haitzondo - Chambres d&#039;hotes
REFRESH-INTERVAL;VALUE=DURATION:PT1H
X-Robots-Tag:noindex
X-PUBLISHED-TTL:PT1H
BEGIN:VTIMEZONE
TZID:Europe/Paris
BEGIN:DAYLIGHT
TZOFFSETFROM:+0100
TZOFFSETTO:+0200
TZNAME:CEST
DTSTART:20240331T010000
END:DAYLIGHT
BEGIN:STANDARD
TZOFFSETFROM:+0200
TZOFFSETTO:+0100
TZNAME:CET
DTSTART:20241027T010000
END:STANDARD
BEGIN:DAYLIGHT
TZOFFSETFROM:+0100
TZOFFSETTO:+0200
TZNAME:CEST
DTSTART:20250330T010000
END:DAYLIGHT
BEGIN:STANDARD
TZOFFSETFROM:+0200
TZOFFSETTO:+0100
TZNAME:CET
DTSTART:20251026T010000
END:STANDARD
BEGIN:DAYLIGHT
TZOFFSETFROM:+0100
TZOFFSETTO:+0200
TZNAME:CEST
DTSTART:20260329T010000
END:DAYLIGHT
BEGIN:STANDARD
TZOFFSETFROM:+0200
TZOFFSETTO:+0100
TZNAME:CET
DTSTART:20261025T010000
END:STANDARD
END:VTIMEZONE
BEGIN:VEVENT
DTSTART;TZID=Europe/Paris:20250125T143000
DTEND;TZID=Europe/Paris:20250125T163000
DTSTAMP:20260420T071418
CREATED:20250106T154205Z
LAST-MODIFIED:20250116T143451Z
UID:7289-1737815400-1737822600@chambresdhotes-haitzondo.com
SUMMARY:Atelier de Danse et Relaxation sonore
DESCRIPTION:Et pourquoi attendre l’été quand on peut déjà danser!! \nEn ce tout début d ‘année\, Isabelle Barbier vous offre ce moment de danse libre et de relaxation sonore. Venez comme vous êtes\, pas besoin de savoir danser. \nMouvements guidés pour relâcher l’esprit et apaiser le corps suivis d’un voyage sonore… pour se reconnecter\, se détendre et fêter ensemble cette nouvelle année qui débute.
URL:https://chambresdhotes-haitzondo.com/evenement/danse-improvisee-et-relaxation/
LOCATION:Maison Haitz Ondo\, 249 Chemin d’Olhassogaraia\, Hasparren\, 64240\, France
CATEGORIES:Danse
ATTACH;FMTTYPE=image/jpeg:https://chambresdhotes-haitzondo.com/wp-content/uploads/2025/01/IMG-20250109-WA0009.jpg
END:VEVENT
END:VCALENDAR